BEGIN:VCALENDAR
VERSION:2.0
PRODID:SchoolNow
CALSCALE:GREGORIAN
BEGIN:VEVENT
UID:a590be58-2385-11ef-9f2d-0a58a9feac02
DTSTAMP:20241010T132511Z
SUMMARY:Activity Band/Chamber
LOCATION:Bailey & Eisenhaurer's room
URL;VALUE=URI:https://www.auburn.k12.ma.us/district/calendar/6082127/activi
 ty-band-chamber
DTSTART:20251215T143000Z
DTEND:20251215T150000Z
END:VEVENT
END:VCALENDAR
