BEGIN:VCALENDAR
VERSION:2.0
PRODID:SchoolNow
CALSCALE:GREGORIAN
BEGIN:VEVENT
UID:a5911588-2385-11ef-9ebd-0a58a9feac02
DTSTAMP:20241010T132511Z
SUMMARY:Activity Band/Chamber
LOCATION:Bailey & Eisenhaurer's room
URL;VALUE=URI:https://www.auburn.k12.ma.us/district/calendar/6082131/activi
 ty-band-chamber
DTSTART:20251223T143000Z
DTEND:20251223T150000Z
END:VEVENT
END:VCALENDAR
