BEGIN:VCALENDAR
VERSION:2.0
PRODID:SchoolNow
CALSCALE:GREGORIAN
BEGIN:VEVENT
UID:a5914ae4-2385-11ef-84ad-0a58a9feac02
DTSTAMP:20241010T132511Z
SUMMARY:Activity Band/Chamber
LOCATION:Bailey & Eisenhaurer's room
URL;VALUE=URI:https://www.auburn.k12.ma.us/district/calendar/6082133/activi
 ty-band-chamber
DTSTART:20251229T143000Z
DTEND:20251229T150000Z
END:VEVENT
END:VCALENDAR
