BEGIN:VCALENDAR
VERSION:2.0
PRODID:SchoolNow
CALSCALE:GREGORIAN
BEGIN:VEVENT
UID:a591a99e-2385-11ef-bfe7-0a58a9feac02
DTSTAMP:20241010T132511Z
SUMMARY:Activity Band/Chamber
LOCATION:Bailey & Eisenhaurer's room
URL;VALUE=URI:https://www.auburn.k12.ma.us/district/calendar/6082136/activi
 ty-band-chamber
DTSTART:20260105T143000Z
DTEND:20260105T150000Z
END:VEVENT
END:VCALENDAR
