BEGIN:VCALENDAR
VERSION:2.0
PRODID:SchoolNow
CALSCALE:GREGORIAN
BEGIN:VEVENT
UID:316b6702-2f07-11ef-b8b9-0affea508899
DTSTAMP:20241010T132511Z
SUMMARY:Activity Band/Chamber
LOCATION:Bailey & Eisenhaurer's room
URL;VALUE=URI:https://www.auburn.k12.ma.us/district/calendar/6147324/activi
 ty-band-chamber
DTSTART:20260210T143000Z
DTEND:20260210T150000Z
END:VEVENT
END:VCALENDAR
