BEGIN:VCALENDAR
VERSION:2.0
PRODID:SchoolNow
CALSCALE:GREGORIAN
BEGIN:VEVENT
UID:4730831a-393e-11ef-8dd7-0afffe295991
DTSTAMP:20241010T132511Z
SUMMARY:Activity Band/Chamber
LOCATION:Bailey & Eisenhaurer's room
URL;VALUE=URI:https://www.auburn.k12.ma.us/district/calendar/6206552/activi
 ty-band-chamber
DTSTART:20260302T143000Z
DTEND:20260302T150000Z
END:VEVENT
END:VCALENDAR
