BEGIN:VCALENDAR
VERSION:2.0
PRODID:SchoolNow
CALSCALE:GREGORIAN
BEGIN:VEVENT
UID:43801b08-3971-11ef-91be-0afff9eb33cd
DTSTAMP:20241010T132511Z
SUMMARY:Activity Band/Chamber
LOCATION:Bailey & Eisenhaurer's room
URL;VALUE=URI:https://www.auburn.k12.ma.us/district/calendar/6208294/activi
 ty-band-chamber
DTSTART:20260303T143000Z
DTEND:20260303T150000Z
END:VEVENT
END:VCALENDAR
