BEGIN:VCALENDAR
VERSION:2.0
PRODID:SchoolNow
CALSCALE:GREGORIAN
BEGIN:VEVENT
UID:a1dc7e02-4ead-11ef-a62d-02857c91ea61
DTSTAMP:20241010T132511Z
SUMMARY:Activity Band/Chamber
LOCATION:Bailey & Eisenhaurer's room
URL;VALUE=URI:https://www.auburn.k12.ma.us/district/calendar/6329837/activi
 ty-band-chamber
DTSTART:20260305T143000Z
DTEND:20260305T150000Z
END:VEVENT
END:VCALENDAR
