BEGIN:VCALENDAR
VERSION:2.0
PRODID:SchoolNow
CALSCALE:GREGORIAN
BEGIN:VEVENT
UID:a1dcc4f2-4ead-11ef-86fe-02857c91ea61
DTSTAMP:20241010T132511Z
SUMMARY:Activity Band/Chamber
LOCATION:Bailey & Eisenhaurer's room
URL;VALUE=URI:https://www.auburn.k12.ma.us/district/calendar/6329839/activi
 ty-band-chamber
DTSTART:20260310T133000Z
DTEND:20260310T140000Z
END:VEVENT
END:VCALENDAR
