BEGIN:VCALENDAR
VERSION:2.0
PRODID:SchoolNow
CALSCALE:GREGORIAN
BEGIN:VEVENT
UID:a1e3de4a-4ead-11ef-9ea6-02857c91ea61
DTSTAMP:20241010T132511Z
SUMMARY:Activity Band/Chamber
LOCATION:Bailey & Eisenhaurer's room
URL;VALUE=URI:https://www.auburn.k12.ma.us/district/calendar/6329844/activi
 ty-band-chamber
DTSTART:20260323T133000Z
DTEND:20260323T140000Z
END:VEVENT
END:VCALENDAR
