BEGIN:VCALENDAR
VERSION:2.0
PRODID:SchoolNow
CALSCALE:GREGORIAN
BEGIN:VEVENT
UID:a1e3efc0-4ead-11ef-9dcc-02857c91ea61
DTSTAMP:20241010T132511Z
SUMMARY:Activity Band/Chamber
LOCATION:Bailey & Eisenhaurer's room
URL;VALUE=URI:https://www.auburn.k12.ma.us/district/calendar/6329845/activi
 ty-band-chamber
DTSTART:20260324T133000Z
DTEND:20260324T140000Z
END:VEVENT
END:VCALENDAR
