BEGIN:VCALENDAR
VERSION:2.0
PRODID:SchoolNow
CALSCALE:GREGORIAN
BEGIN:VEVENT
UID:63ff6f1e-5375-11ef-8fbb-0a58a9feac02
DTSTAMP:20241010T132511Z
SUMMARY:Activity Band/Chamber
LOCATION:Bailey & Eisenhaurer's room
URL;VALUE=URI:https://www.auburn.k12.ma.us/district/calendar/6358186/activi
 ty-band-chamber
DTSTART:20260331T133000Z
DTEND:20260331T140000Z
END:VEVENT
END:VCALENDAR
