BEGIN:VCALENDAR
VERSION:2.0
PRODID:SchoolNow
CALSCALE:GREGORIAN
BEGIN:VEVENT
UID:5cc433ee-540e-11ef-b326-0a58a9feac02
DTSTAMP:20241010T132511Z
SUMMARY:Activity Band/Chamber
LOCATION:Bailey & Eisenhaurer's room
URL;VALUE=URI:https://www.auburn.k12.ma.us/district/calendar/6361593/activi
 ty-band-chamber
DTSTART:20260406T133000Z
DTEND:20260406T140000Z
END:VEVENT
END:VCALENDAR
