BEGIN:VCALENDAR
VERSION:2.0
PRODID:SchoolNow
CALSCALE:GREGORIAN
BEGIN:VEVENT
UID:521a3d54-54da-11ef-8447-0a58a9feac02
DTSTAMP:20241010T132511Z
SUMMARY:Activity Band/Chamber
LOCATION:Bailey & Eisenhaurer's room
URL;VALUE=URI:https://www.auburn.k12.ma.us/district/calendar/6366350/activi
 ty-band-chamber
DTSTART:20260407T133000Z
DTEND:20260407T140000Z
END:VEVENT
END:VCALENDAR
