BEGIN:VCALENDAR
VERSION:2.0
PRODID:SchoolNow
CALSCALE:GREGORIAN
BEGIN:VEVENT
UID:7ac1fa0a-5672-11ef-b3ad-0a58a9feac02
DTSTAMP:20241010T132511Z
SUMMARY:Activity Band/Chamber
LOCATION:Bailey & Eisenhaurer's room
URL;VALUE=URI:https://www.auburn.k12.ma.us/district/calendar/6376240/activi
 ty-band-chamber
DTSTART:20260409T133000Z
DTEND:20260409T140000Z
END:VEVENT
END:VCALENDAR
