BEGIN:VCALENDAR
VERSION:2.0
PRODID:SchoolNow
CALSCALE:GREGORIAN
BEGIN:VEVENT
UID:d5ae0f22-5e69-11ef-95c6-027c74643d0d
DTSTAMP:20241010T132511Z
SUMMARY:Activity Band/Chamber
LOCATION:Bailey & Eisenhaurer's room
URL;VALUE=URI:https://www.auburn.k12.ma.us/district/calendar/6426629/activi
 ty-band-chamber
DTSTART:20260414T133000Z
DTEND:20260414T140000Z
END:VEVENT
END:VCALENDAR
