BEGIN:VCALENDAR
VERSION:2.0
PRODID:SchoolNow
CALSCALE:GREGORIAN
BEGIN:VEVENT
UID:cb6377f6-5f35-11ef-9706-0e054fc2cad3
DTSTAMP:20241010T132511Z
SUMMARY:Activity Band/Chamber
LOCATION:Bailey & Eisenhaurer's room
URL;VALUE=URI:https://www.auburn.k12.ma.us/district/calendar/6433232/activi
 ty-band-chamber
DTSTART:20260420T133000Z
DTEND:20260420T140000Z
END:VEVENT
END:VCALENDAR
