BEGIN:VCALENDAR
VERSION:2.0
PRODID:SchoolNow
CALSCALE:GREGORIAN
BEGIN:VEVENT
UID:abf92d64-6199-11ef-8a5d-0affc64b8261
DTSTAMP:20241010T132511Z
SUMMARY:Activity Band/Chamber
LOCATION:Bailey & Eisenhaurer's room
URL;VALUE=URI:https://www.auburn.k12.ma.us/district/calendar/6449414/activi
 ty-band-chamber
DTSTART:20260423T133000Z
DTEND:20260423T140000Z
END:VEVENT
END:VCALENDAR
