BEGIN:VCALENDAR
VERSION:2.0
PRODID:SchoolNow
CALSCALE:GREGORIAN
BEGIN:VEVENT
UID:73a27ab8-65fb-11ef-a6b3-02e4e5a26477
DTSTAMP:20241010T132511Z
SUMMARY:Activity Band/Chamber
LOCATION:Bailey & Eisenhaurer's room
URL;VALUE=URI:https://www.auburn.k12.ma.us/district/calendar/6479998/activi
 ty-band-chamber
DTSTART:20260428T133000Z
DTEND:20260428T140000Z
END:VEVENT
END:VCALENDAR
