BEGIN:VCALENDAR
VERSION:2.0
PRODID:SchoolNow
CALSCALE:GREGORIAN
BEGIN:VEVENT
UID:32f9839e-6af6-11ef-9e82-022c2239be95
DTSTAMP:20241010T132511Z
SUMMARY:Activity Band/Chamber
LOCATION:Bailey & Eisenhaurer's room
URL;VALUE=URI:https://www.auburn.k12.ma.us/district/calendar/6523949/activi
 ty-band-chamber
DTSTART:20260504T133000Z
DTEND:20260504T140000Z
END:VEVENT
END:VCALENDAR
