BEGIN:VCALENDAR
VERSION:2.0
PRODID:SchoolNow
CALSCALE:GREGORIAN
BEGIN:VEVENT
UID:2db696a2-6bc2-11ef-b472-0a58a9feac02
DTSTAMP:20241010T132511Z
SUMMARY:Activity Band/Chamber
LOCATION:Bailey & Eisenhaurer's room
URL;VALUE=URI:https://www.auburn.k12.ma.us/district/calendar/6532236/activi
 ty-band-chamber
DTSTART:20260505T133000Z
DTEND:20260505T140000Z
END:VEVENT
END:VCALENDAR
