BEGIN:VCALENDAR
VERSION:2.0
PRODID:SchoolNow
CALSCALE:GREGORIAN
BEGIN:VEVENT
UID:ffd1922c-6ef1-11ef-8f4e-028606dfe0d9
DTSTAMP:20241010T132511Z
SUMMARY:Activity Band/Chamber
LOCATION:Bailey & Eisenhaurer's room
URL;VALUE=URI:https://www.auburn.k12.ma.us/district/calendar/6562319/activi
 ty-band-chamber
DTSTART:20260507T133000Z
DTEND:20260507T140000Z
END:VEVENT
END:VCALENDAR
