BEGIN:VCALENDAR
VERSION:2.0
PRODID:SchoolNow
CALSCALE:GREGORIAN
BEGIN:VEVENT
UID:53eeec80-7157-11ef-8928-02f32b748c45
DTSTAMP:20241010T132511Z
SUMMARY:Activity Band/Chamber
LOCATION:Bailey & Eisenhaurer's room
URL;VALUE=URI:https://www.auburn.k12.ma.us/district/calendar/6589246/activi
 ty-band-chamber
DTSTART:20260512T133000Z
DTEND:20260512T140000Z
END:VEVENT
END:VCALENDAR
