BEGIN:VCALENDAR
VERSION:2.0
PRODID:SchoolNow
CALSCALE:GREGORIAN
BEGIN:VEVENT
UID:4d19e580-76b7-11ef-9c5b-0affe278c081
DTSTAMP:20241010T132511Z
SUMMARY:Activity Band/Chamber
LOCATION:Bailey & Eisenhaurer's room
URL;VALUE=URI:https://www.auburn.k12.ma.us/district/calendar/6642899/activi
 ty-band-chamber
DTSTART:20260514T133000Z
DTEND:20260514T140000Z
END:VEVENT
END:VCALENDAR
