BEGIN:VCALENDAR
VERSION:2.0
PRODID:SchoolNow
CALSCALE:GREGORIAN
BEGIN:VEVENT
UID:4d19ea30-76b7-11ef-8913-0affe278c081
DTSTAMP:20241010T132511Z
SUMMARY:Activity Band/Chamber
LOCATION:Bailey & Eisenhaurer's room
URL;VALUE=URI:https://www.auburn.k12.ma.us/district/calendar/6642901/activi
 ty-band-chamber
DTSTART:20260519T133000Z
DTEND:20260519T140000Z
END:VEVENT
END:VCALENDAR
