BEGIN:VCALENDAR
VERSION:2.0
PRODID:SchoolNow
CALSCALE:GREGORIAN
BEGIN:VEVENT
UID:556aa2d2-7c17-11ef-8146-0273511dda9f
DTSTAMP:20241010T132511Z
SUMMARY:Activity Band/Chamber
LOCATION:Bailey & Eisenhaurer's room
URL;VALUE=URI:https://www.auburn.k12.ma.us/district/calendar/6694758/activi
 ty-band-chamber
DTSTART:20260525T133000Z
DTEND:20260525T140000Z
END:VEVENT
END:VCALENDAR
