BEGIN:VCALENDAR
VERSION:2.0
PRODID:SchoolNow
CALSCALE:GREGORIAN
BEGIN:VEVENT
UID:556aa638-7c17-11ef-b904-0273511dda9f
DTSTAMP:20241010T132511Z
SUMMARY:Activity Band/Chamber
LOCATION:Bailey & Eisenhaurer's room
URL;VALUE=URI:https://www.auburn.k12.ma.us/district/calendar/6694759/activi
 ty-band-chamber
DTSTART:20260526T133000Z
DTEND:20260526T140000Z
END:VEVENT
END:VCALENDAR
