BEGIN:VCALENDAR
VERSION:2.0
PRODID:SchoolNow
CALSCALE:GREGORIAN
BEGIN:VEVENT
UID:51dc507e-8276-11ef-8342-0a58a9feac02
DTSTAMP:20241010T132511Z
SUMMARY:Activity Band/Chamber
LOCATION:Bailey & Eisenhaurer's room
URL;VALUE=URI:https://www.auburn.k12.ma.us/district/calendar/6755677/activi
 ty-band-chamber
DTSTART:20260528T133000Z
DTEND:20260528T140000Z
END:VEVENT
END:VCALENDAR
