BEGIN:VCALENDAR
VERSION:2.0
PRODID:SchoolNow
CALSCALE:GREGORIAN
BEGIN:VEVENT
UID:1ad82d5a-8672-11ef-ad29-0a58a9feac02
DTSTAMP:20241010T132511Z
SUMMARY:Activity Band/Chamber
LOCATION:Bailey & Eisenhaurer's room
URL;VALUE=URI:https://www.auburn.k12.ma.us/district/calendar/6790946/activi
 ty-band-chamber
DTSTART:20260609T133000Z
DTEND:20260609T140000Z
END:VEVENT
END:VCALENDAR
