BEGIN:VCALENDAR
VERSION:2.0
PRODID:SchoolNow
CALSCALE:GREGORIAN
BEGIN:VEVENT
UID:6e0cda30-82c9-11f0-9323-0a58a9feac02
DTSTAMP:20260424T142515Z
SUMMARY:Winter Recess
URL;VALUE=URI:https://www.auburn.k12.ma.us/schools/auburn-middle-school/cal
 endar/8547061/winter-recess
DTSTART;VALUE=DATE:20251224
DTEND;VALUE=DATE:20260105
END:VEVENT
END:VCALENDAR
