BEGIN:VCALENDAR
VERSION:2.0
PRODID:SchoolNow
CALSCALE:GREGORIAN
BEGIN:VEVENT
UID:19cda8f6-898f-11f0-888c-0affd3c5e187
DTSTAMP:20260424T082014Z
SUMMARY:AMS-National Junior Honor Society Induction Ceremony
LOCATION:AMS Cafeteria
URL;VALUE=URI:https://www.auburn.k12.ma.us/schools/auburn-middle-school/cal
 endar/8578377/ams-national-junior-honor-society-induction-ceremony
DTSTART:20260305T223000Z
DTEND:20260305T233000Z
END:VEVENT
END:VCALENDAR
