BEGIN:VCALENDAR
VERSION:2.0
PRODID:SchoolNow
CALSCALE:GREGORIAN
BEGIN:VEVENT
UID:19cdabee-898f-11f0-a9e6-0affd3c5e187
DTSTAMP:20260424T082014Z
SUMMARY:AMS Career Day
URL;VALUE=URI:https://www.auburn.k12.ma.us/schools/auburn-middle-school/cal
 endar/8578378/ams-career-day
DTSTART:20260515T120000Z
DTEND:20260515T150000Z
END:VEVENT
END:VCALENDAR
