BEGIN:VCALENDAR
VERSION:2.0
PRODID:SchoolNow
CALSCALE:GREGORIAN
BEGIN:VEVENT
UID:14e7bd76-89c2-11f0-834f-0a58a9feac02
DTSTAMP:20260424T142515Z
SUMMARY:1/2 PD Day
URL;VALUE=URI:https://www.auburn.k12.ma.us/schools/auburn-middle-school/cal
 endar/8580790/1-2-pd-day
DTSTART:20260116T163000Z
DTEND:20260116T191500Z
END:VEVENT
END:VCALENDAR
