BEGIN:VCALENDAR
VERSION:2.0
PRODID:SchoolNow
CALSCALE:GREGORIAN
BEGIN:VEVENT
UID:14e7c28a-89c2-11f0-a39a-0a58a9feac02
DTSTAMP:20260424T082014Z
SUMMARY:AMS-Full PD Day
URL;VALUE=URI:https://www.auburn.k12.ma.us/schools/auburn-middle-school/cal
 endar/8580795/ams-full-pd-day
DTSTART;VALUE=DATE:20260320
DTEND;VALUE=DATE:20260321
END:VEVENT
END:VCALENDAR
