BEGIN:VCALENDAR
VERSION:2.0
PRODID:SchoolNow
CALSCALE:GREGORIAN
BEGIN:VEVENT
UID:14e7c53c-89c2-11f0-afad-0a58a9feac02
DTSTAMP:20260424T082014Z
SUMMARY:AMS-Battle of the Books Kickoff
URL;VALUE=URI:https://www.auburn.k12.ma.us/schools/auburn-middle-school/cal
 endar/8580798/ams-battle-of-the-books-kickoff
DTSTART;VALUE=DATE:20260302
DTEND;VALUE=DATE:20260303
END:VEVENT
END:VCALENDAR
