BEGIN:VCALENDAR
VERSION:2.0
PRODID:SchoolNow
CALSCALE:GREGORIAN
BEGIN:VEVENT
UID:14e7c618-89c2-11f0-80bf-0a58a9feac02
DTSTAMP:20260424T082014Z
SUMMARY:All Town Band-AHS Gymnasium
URL;VALUE=URI:https://www.auburn.k12.ma.us/schools/auburn-middle-school/cal
 endar/8580799/all-town-band-ahs-gymnasium
DTSTART:20260310T223000Z
DTEND:20260311T003000Z
END:VEVENT
END:VCALENDAR
