BEGIN:VCALENDAR
VERSION:2.0
PRODID:SchoolNow
CALSCALE:GREGORIAN
BEGIN:VEVENT
UID:14e7c6fe-89c2-11f0-a9b4-0a58a9feac02
DTSTAMP:20260424T082014Z
SUMMARY:All Town Chorus-AHS Gymnasium
URL;VALUE=URI:https://www.auburn.k12.ma.us/schools/auburn-middle-school/cal
 endar/8580800/all-town-chorus-ahs-gymnasium
DTSTART:20260311T223000Z
DTEND:20260312T003000Z
END:VEVENT
END:VCALENDAR
