BEGIN:VCALENDAR
VERSION:2.0
PRODID:SchoolNow
CALSCALE:GREGORIAN
BEGIN:VEVENT
UID:14e7c7da-89c2-11f0-9615-0a58a9feac02
DTSTAMP:20260424T082014Z
SUMMARY:Polar Plunge Check-in 11:15 AMS
URL;VALUE=URI:https://www.auburn.k12.ma.us/schools/auburn-middle-school/cal
 endar/8580801/polar-plunge-check-in-11-15-ams
DTSTART;VALUE=DATE:20260320
DTEND;VALUE=DATE:20260321
END:VEVENT
END:VCALENDAR
