BEGIN:VCALENDAR
VERSION:2.0
PRODID:SchoolNow
CALSCALE:GREGORIAN
BEGIN:VEVENT
UID:14e7c8ac-89c2-11f0-8032-0a58a9feac02
DTSTAMP:20260424T082014Z
SUMMARY:AMS-Celebrate World Down Syndrome Day Wear Mismatched Socks
URL;VALUE=URI:https://www.auburn.k12.ma.us/schools/auburn-middle-school/cal
 endar/8580802/ams-celebrate-world-down-syndrome-day-wear-mismatched-socks
DTSTART;VALUE=DATE:20260319
DTEND;VALUE=DATE:20260320
END:VEVENT
END:VCALENDAR
