BEGIN:VCALENDAR
VERSION:2.0
PRODID:SchoolNow
CALSCALE:GREGORIAN
BEGIN:VEVENT
UID:14e7c99c-89c2-11f0-9249-0a58a9feac02
DTSTAMP:20260424T082014Z
SUMMARY:AMS-Autism Awareness Day-Light it up Blue
URL;VALUE=URI:https://www.auburn.k12.ma.us/schools/auburn-middle-school/cal
 endar/8580803/ams-autism-awareness-day-light-it-up-blue
DTSTART;VALUE=DATE:20260402
DTEND;VALUE=DATE:20260403
END:VEVENT
END:VCALENDAR
