BEGIN:VCALENDAR
VERSION:2.0
PRODID:SchoolNow
CALSCALE:GREGORIAN
BEGIN:VEVENT
UID:14e7ca78-89c2-11f0-8657-0a58a9feac02
DTSTAMP:20260424T082014Z
SUMMARY:April Vacation
URL;VALUE=URI:https://www.auburn.k12.ma.us/schools/auburn-middle-school/cal
 endar/8580804/april-vacation
DTSTART;VALUE=DATE:20260420
DTEND;VALUE=DATE:20260425
END:VEVENT
END:VCALENDAR
