BEGIN:VCALENDAR
VERSION:2.0
PRODID:SchoolNow
CALSCALE:GREGORIAN
BEGIN:VEVENT
UID:8724272c-94b6-11f0-88b1-0a58a9feac02
DTSTAMP:20260424T082014Z
SUMMARY:AMS 8th Grade FT High Meadows 7:45 - 4:30pm
URL;VALUE=URI:https://www.auburn.k12.ma.us/schools/auburn-middle-school/cal
 endar/8637087/ams-8th-grade-ft-high-meadows-7-45-4-30pm
DTSTART;VALUE=DATE:20260609
DTEND;VALUE=DATE:20260610
END:VEVENT
END:VCALENDAR
