BEGIN:VCALENDAR
VERSION:2.0
PRODID:SchoolNow
CALSCALE:GREGORIAN
BEGIN:VEVENT
UID:87242830-94b6-11f0-ba8a-0a58a9feac02
DTSTAMP:20260424T082014Z
SUMMARY:AMS Force/Motion Presentation - 8th
URL;VALUE=URI:https://www.auburn.k12.ma.us/schools/auburn-middle-school/cal
 endar/8637088/ams-force-motion-presentation-8th
DTSTART;VALUE=DATE:20260203
DTEND;VALUE=DATE:20260204
END:VEVENT
END:VCALENDAR
