BEGIN:VCALENDAR
VERSION:2.0
PRODID:SchoolNow
CALSCALE:GREGORIAN
BEGIN:VEVENT
UID:107d1544-a3a6-11f0-aa4c-0afffa040d71
DTSTAMP:20260424T082014Z
SUMMARY:AMS RocketFest Six Flags
URL;VALUE=URI:https://www.auburn.k12.ma.us/schools/auburn-middle-school/cal
 endar/8702920/ams-rocketfest-six-flags
DTSTART:20260605T140000Z
DTEND:20260606T000000Z
END:VEVENT
END:VCALENDAR
