BEGIN:VCALENDAR
VERSION:2.0
PRODID:SchoolNow
CALSCALE:GREGORIAN
BEGIN:VEVENT
UID:c0f5d2c4-b514-11f0-9be6-0a58a9feac02
DTSTAMP:20260424T082014Z
SUMMARY:AMS 7Gr Polar Park FT Tentative
LOCATION:Polar Park\, 100 Madison St\, Worcester\, MA 01608\, USA
URL;VALUE=URI:https://www.auburn.k12.ma.us/schools/auburn-middle-school/cal
 endar/8760140/ams-7gr-polar-park-ft-tentative
DTSTART:20260521T133000Z
DTEND:20260521T170000Z
END:VEVENT
END:VCALENDAR
