BEGIN:VCALENDAR
VERSION:2.0
PRODID:SchoolNow
CALSCALE:GREGORIAN
BEGIN:VEVENT
UID:01c8cdae-c49e-11f0-8322-0a58a9feac02
DTSTAMP:20260424T082014Z
SUMMARY:AMS Kimball Farm FT Gr 6
LOCATION:Kimball Farm Westford\, 400 Littleton Rd\, Westford\, MA 01886\, U
 SA
URL;VALUE=URI:https://www.auburn.k12.ma.us/schools/auburn-middle-school/cal
 endar/8801792/ams-kimball-farm-ft-gr-6
DTSTART:20260508T123000Z
DTEND:20260508T171500Z
END:VEVENT
END:VCALENDAR
