BEGIN:VCALENDAR
VERSION:2.0
PRODID:SchoolNow
CALSCALE:GREGORIAN
BEGIN:VEVENT
UID:bf991084-c965-11f0-9300-0a58a9feac02
DTSTAMP:20260424T082014Z
SUMMARY:AMS-1/2 Day PD Day
URL;VALUE=URI:https://www.auburn.k12.ma.us/schools/auburn-middle-school/cal
 endar/8809079/ams-1-2-day-pd-day
DTSTART:20260316T153000Z
DTEND:20260316T181500Z
END:VEVENT
END:VCALENDAR
