BEGIN:VCALENDAR
VERSION:2.0
PRODID:SchoolNow
CALSCALE:GREGORIAN
BEGIN:VEVENT
UID:23402ba6-fc63-11f0-b11e-0a58a9feac02
DTSTAMP:20260424T082014Z
SUMMARY:AMS 8th Gr FT Fenway Park
LOCATION:Fenway Park\, 4 Jersey St\, Boston\, MA 02215\, USA
URL;VALUE=URI:https://www.auburn.k12.ma.us/schools/auburn-middle-school/cal
 endar/8845610/ams-8th-gr-ft-fenway-park
DTSTART:20260408T123000Z
DTEND:20260408T224500Z
END:VEVENT
END:VCALENDAR
