BEGIN:VCALENDAR
VERSION:2.0
PRODID:SchoolNow
CALSCALE:GREGORIAN
BEGIN:VEVENT
UID:23402ef8-fc63-11f0-be0f-0a58a9feac02
DTSTAMP:20260424T082014Z
SUMMARY:AMS 8th Gr FT Ed Kennedy Institute - Supernova
LOCATION:Edward M. Kennedy Institute for the United States Senate\, 210 Mor
 rissey Blvd\, Boston\, MA 02125\, USA
URL;VALUE=URI:https://www.auburn.k12.ma.us/schools/auburn-middle-school/cal
 endar/8845612/ams-8th-gr-ft-ed-kennedy-institute-supernova
DTSTART:20260210T133000Z
DTEND:20260210T180000Z
END:VEVENT
END:VCALENDAR
