BEGIN:VCALENDAR
VERSION:2.0
PRODID:SchoolNow
CALSCALE:GREGORIAN
BEGIN:VEVENT
UID:23403024-fc63-11f0-9642-0a58a9feac02
DTSTAMP:20260424T082014Z
SUMMARY:AMS 6th Gr FT Bravehearts
URL;VALUE=URI:https://www.auburn.k12.ma.us/schools/auburn-middle-school/cal
 endar/8845613/ams-6th-gr-ft-bravehearts
DTSTART:20260603T123000Z
DTEND:20260603T173000Z
END:VEVENT
END:VCALENDAR
